Package: VERSO Version: 1.9.0 Command: /home/biocbuild/bbs-3.17-bioc/R/bin/R CMD INSTALL VERSO StartedAt: 2023-04-12 01:38:55 -0400 (Wed, 12 Apr 2023) EndedAt: 2023-04-12 01:39:02 -0400 (Wed, 12 Apr 2023) EllapsedTime: 7.0 seconds RetCode: 0 Status: OK