Package: VERSO Version: 1.9.0 Command: /home/biocbuild/bbs-3.17-bioc/R/bin/R CMD build --keep-empty-dirs --no-resave-data VERSO StartedAt: 2023-04-12 04:27:52 -0400 (Wed, 12 Apr 2023) EndedAt: 2023-04-12 04:27:59 -0400 (Wed, 12 Apr 2023) EllapsedTime: 7.0 seconds RetCode: 0 Status: OK PackageFile: VERSO_1.9.0.tar.gz PackageFileSize: 169.9 KiB