Package: TitanCNA Version: 1.37.0 Command: /home/biocbuild/bbs-3.17-bioc/R/bin/R CMD INSTALL TitanCNA StartedAt: 2023-04-12 01:51:06 -0400 (Wed, 12 Apr 2023) EndedAt: 2023-04-12 01:52:11 -0400 (Wed, 12 Apr 2023) EllapsedTime: 64.5 seconds RetCode: 0 Status: OK