Package: TAPseq Version: 1.11.0 Command: /home/biocbuild/bbs-3.17-bioc/R/bin/R CMD INSTALL TAPseq StartedAt: 2023-04-12 01:49:05 -0400 (Wed, 12 Apr 2023) EndedAt: 2023-04-12 01:50:01 -0400 (Wed, 12 Apr 2023) EllapsedTime: 55.7 seconds RetCode: 0 Status: OK