Package: Streamer Version: 1.45.0 Command: /home/biocbuild/bbs-3.17-bioc/R/bin/R CMD INSTALL Streamer StartedAt: 2023-04-12 01:36:02 -0400 (Wed, 12 Apr 2023) EndedAt: 2023-04-12 01:36:10 -0400 (Wed, 12 Apr 2023) EllapsedTime: 8.0 seconds RetCode: 0 Status: OK