Package: ScaledMatrix Version: 1.7.0 Command: /home/biocbuild/bbs-3.17-bioc/R/bin/R CMD build --keep-empty-dirs --no-resave-data ScaledMatrix StartedAt: 2023-04-11 17:50:01 -0400 (Tue, 11 Apr 2023) EndedAt: 2023-04-11 17:52:44 -0400 (Tue, 11 Apr 2023) EllapsedTime: 162.3 seconds RetCode: 0 Status: OK PackageFile: ScaledMatrix_1.7.0.tar.gz PackageFileSize: 291.1 KiB