Package: STRINGdb Version: 2.11.1 Command: /home/biocbuild/bbs-3.17-bioc/R/bin/R CMD build --keep-empty-dirs --no-resave-data STRINGdb StartedAt: 2023-04-12 04:19:36 -0400 (Wed, 12 Apr 2023) EndedAt: 2023-04-12 04:23:14 -0400 (Wed, 12 Apr 2023) EllapsedTime: 217.9 seconds RetCode: 0 Status: OK PackageFile: STRINGdb_2.11.1.tar.gz PackageFileSize: 7.813 MiB