Package: SPONGE Version: 1.21.0 Command: /home/biocbuild/bbs-3.17-bioc/R/bin/R CMD build --keep-empty-dirs --no-resave-data SPONGE StartedAt: 2023-04-12 04:17:15 -0400 (Wed, 12 Apr 2023) EndedAt: 2023-04-12 04:20:22 -0400 (Wed, 12 Apr 2023) EllapsedTime: 186.6 seconds RetCode: 0 Status: OK PackageFile: SPONGE_1.21.0.tar.gz PackageFileSize: 8.802 MiB