Package: SPEM Version: 1.39.0 Command: /home/biocbuild/bbs-3.17-bioc/R/bin/R CMD build --keep-empty-dirs --no-resave-data SPEM StartedAt: 2023-04-12 04:16:19 -0400 (Wed, 12 Apr 2023) EndedAt: 2023-04-12 04:16:26 -0400 (Wed, 12 Apr 2023) EllapsedTime: 7.1 seconds RetCode: 0 Status: OK PackageFile: SPEM_1.39.0.tar.gz PackageFileSize: 461.3 KiB