Package: SCOPE Version: 1.11.0 Command: /home/biocbuild/bbs-3.17-bioc/R/bin/R CMD build --keep-empty-dirs --no-resave-data SCOPE StartedAt: 2023-04-12 04:06:18 -0400 (Wed, 12 Apr 2023) EndedAt: 2023-04-12 04:15:33 -0400 (Wed, 12 Apr 2023) EllapsedTime: 554.8 seconds RetCode: 0 Status: OK PackageFile: SCOPE_1.11.0.tar.gz PackageFileSize: 391.4 KiB