Package: Rhisat2 Version: 1.15.0 Command: /home/biocbuild/bbs-3.17-bioc/R/bin/R CMD build --keep-empty-dirs --no-resave-data Rhisat2 StartedAt: 2023-04-12 03:56:05 -0400 (Wed, 12 Apr 2023) EndedAt: 2023-04-12 03:59:50 -0400 (Wed, 12 Apr 2023) EllapsedTime: 224.7 seconds RetCode: 0 Status: OK PackageFile: Rhisat2_1.15.0.tar.gz PackageFileSize: 6.745 MiB