Package: Rhdf5lib Version: 1.21.0 Command: /home/biocbuild/bbs-3.17-bioc/R/bin/R CMD INSTALL Rhdf5lib StartedAt: 2023-04-12 01:32:48 -0400 (Wed, 12 Apr 2023) EndedAt: 2023-04-12 01:36:11 -0400 (Wed, 12 Apr 2023) EllapsedTime: 202.6 seconds RetCode: 0 Status: OK