Package: Rhdf5lib Version: 1.21.0 Command: /home/biocbuild/bbs-3.17-bioc/R/bin/R CMD build --keep-empty-dirs --no-resave-data Rhdf5lib StartedAt: 2023-04-11 17:42:19 -0400 (Tue, 11 Apr 2023) EndedAt: 2023-04-11 17:45:37 -0400 (Tue, 11 Apr 2023) EllapsedTime: 197.9 seconds RetCode: 0 Status: OK PackageFile: Rhdf5lib_1.21.0.tar.gz PackageFileSize: 13.97 MiB