Package: Rdisop Version: 1.59.1 Command: /home/biocbuild/bbs-3.17-bioc/R/bin/R CMD build --keep-empty-dirs --no-resave-data Rdisop StartedAt: 2023-04-12 03:53:25 -0400 (Wed, 12 Apr 2023) EndedAt: 2023-04-12 03:54:06 -0400 (Wed, 12 Apr 2023) EllapsedTime: 41.2 seconds RetCode: 0 Status: OK PackageFile: Rdisop_1.59.1.tar.gz PackageFileSize: 815.1 KiB