Package: Rarr Version: 0.99.9 Command: /home/biocbuild/bbs-3.17-bioc/R/bin/R CMD INSTALL Rarr StartedAt: 2023-04-12 01:39:56 -0400 (Wed, 12 Apr 2023) EndedAt: 2023-04-12 01:41:04 -0400 (Wed, 12 Apr 2023) EllapsedTime: 67.9 seconds RetCode: 0 Status: OK