Package: RadioGx Version: 2.3.1 Command: /home/biocbuild/bbs-3.17-bioc/R/bin/R CMD INSTALL RadioGx StartedAt: 2023-04-12 01:56:37 -0400 (Wed, 12 Apr 2023) EndedAt: 2023-04-12 01:57:17 -0400 (Wed, 12 Apr 2023) EllapsedTime: 40.0 seconds RetCode: 0 Status: OK