Package: RLassoCox Version: 1.7.0 Command: /home/biocbuild/bbs-3.17-bioc/R/bin/R CMD build --keep-empty-dirs --no-resave-data RLassoCox StartedAt: 2023-04-12 03:57:30 -0400 (Wed, 12 Apr 2023) EndedAt: 2023-04-12 03:58:56 -0400 (Wed, 12 Apr 2023) EllapsedTime: 86.2 seconds RetCode: 0 Status: OK PackageFile: RLassoCox_1.7.0.tar.gz PackageFileSize: 1.993 MiB