Package: REDseq Version: 1.45.0 Command: /home/biocbuild/bbs-3.17-bioc/R/bin/R CMD INSTALL REDseq StartedAt: 2023-04-12 01:59:33 -0400 (Wed, 12 Apr 2023) EndedAt: 2023-04-12 02:00:31 -0400 (Wed, 12 Apr 2023) EllapsedTime: 58.4 seconds RetCode: 0 Status: OK