Package: RBioinf Version: 1.59.0 Command: /home/biocbuild/bbs-3.17-bioc/R/bin/R CMD build --keep-empty-dirs --no-resave-data RBioinf StartedAt: 2023-04-12 03:52:20 -0400 (Wed, 12 Apr 2023) EndedAt: 2023-04-12 03:52:29 -0400 (Wed, 12 Apr 2023) EllapsedTime: 9.0 seconds RetCode: 0 Status: OK PackageFile: RBioinf_1.59.0.tar.gz PackageFileSize: 3.433 MiB