Package: R3CPET Version: 1.31.0 Command: /home/biocbuild/bbs-3.17-bioc/R/bin/R CMD build --keep-empty-dirs --no-resave-data R3CPET StartedAt: 2023-04-12 03:50:55 -0400 (Wed, 12 Apr 2023) EndedAt: 2023-04-12 03:53:10 -0400 (Wed, 12 Apr 2023) EllapsedTime: 134.5 seconds RetCode: 0 Status: OK PackageFile: R3CPET_1.31.0.tar.gz PackageFileSize: 5.073 MiB