Package: Pigengene Version: 1.25.16 Command: /home/biocbuild/bbs-3.17-bioc/R/bin/R CMD INSTALL Pigengene StartedAt: 2023-04-12 02:01:48 -0400 (Wed, 12 Apr 2023) EndedAt: 2023-04-12 02:02:22 -0400 (Wed, 12 Apr 2023) EllapsedTime: 33.9 seconds RetCode: 0 Status: OK