Package: PhenStat Version: 2.35.0 Command: /home/biocbuild/bbs-3.17-bioc/R/bin/R CMD INSTALL PhenStat StartedAt: 2023-04-12 01:54:27 -0400 (Wed, 12 Apr 2023) EndedAt: 2023-04-12 01:54:46 -0400 (Wed, 12 Apr 2023) EllapsedTime: 19.0 seconds RetCode: 0 Status: OK