Package: PhenStat Version: 2.35.0 Command: /home/biocbuild/bbs-3.17-bioc/R/bin/R CMD build --keep-empty-dirs --no-resave-data PhenStat StartedAt: 2023-04-12 03:42:56 -0400 (Wed, 12 Apr 2023) EndedAt: 2023-04-12 03:44:05 -0400 (Wed, 12 Apr 2023) EllapsedTime: 68.4 seconds RetCode: 0 Status: OK PackageFile: PhenStat_2.35.0.tar.gz PackageFileSize: 675.2 KiB