Package: PSMatch Version: 1.3.3 Command: /home/biocbuild/bbs-3.17-bioc/R/bin/R CMD INSTALL PSMatch StartedAt: 2023-04-12 01:52:18 -0400 (Wed, 12 Apr 2023) EndedAt: 2023-04-12 01:52:58 -0400 (Wed, 12 Apr 2023) EllapsedTime: 39.9 seconds RetCode: 0 Status: OK