Package: PICS Version: 2.43.0 Command: /home/biocbuild/bbs-3.17-bioc/R/bin/R CMD build --keep-empty-dirs --no-resave-data PICS StartedAt: 2023-04-12 03:44:14 -0400 (Wed, 12 Apr 2023) EndedAt: 2023-04-12 03:45:49 -0400 (Wed, 12 Apr 2023) EllapsedTime: 95.5 seconds RetCode: 0 Status: OK PackageFile: PICS_2.43.0.tar.gz PackageFileSize: 700.9 KiB