Package: PADOG Version: 1.41.0 Command: /home/biocbuild/bbs-3.17-bioc/R/bin/R CMD build --keep-empty-dirs --no-resave-data PADOG StartedAt: 2023-04-12 03:34:46 -0400 (Wed, 12 Apr 2023) EndedAt: 2023-04-12 03:41:28 -0400 (Wed, 12 Apr 2023) EllapsedTime: 401.3 seconds RetCode: 0 Status: OK PackageFile: PADOG_1.41.0.tar.gz PackageFileSize: 231.3 KiB