Package: NxtIRFcore Version: 1.5.1 Command: /home/biocbuild/bbs-3.17-bioc/R/bin/R CMD build --keep-empty-dirs --no-resave-data NxtIRFcore StartedAt: 2023-04-11 17:15:04 -0400 (Tue, 11 Apr 2023) EndedAt: 2023-04-11 17:19:43 -0400 (Tue, 11 Apr 2023) EllapsedTime: 278.3 seconds RetCode: 0 Status: OK PackageFile: NxtIRFcore_1.5.1.tar.gz PackageFileSize: 2.113 MiB