Package: NetSAM Version: 1.39.1 Command: /home/biocbuild/bbs-3.17-bioc/R/bin/R CMD INSTALL NetSAM StartedAt: 2023-04-12 01:59:36 -0400 (Wed, 12 Apr 2023) EndedAt: 2023-04-12 02:00:09 -0400 (Wed, 12 Apr 2023) EllapsedTime: 33.4 seconds RetCode: 0 Status: OK