Package: NanoMethViz Version: 2.5.3 Command: /home/biocbuild/bbs-3.17-bioc/R/bin/R CMD INSTALL NanoMethViz StartedAt: 2023-04-12 02:00:42 -0400 (Wed, 12 Apr 2023) EndedAt: 2023-04-12 02:02:00 -0400 (Wed, 12 Apr 2023) EllapsedTime: 77.7 seconds RetCode: 0 Status: OK