Package: MsBackendMgf Version: 1.7.5 Command: /home/biocbuild/bbs-3.17-bioc/R/bin/R CMD build --keep-empty-dirs --no-resave-data MsBackendMgf StartedAt: 2023-04-12 03:23:04 -0400 (Wed, 12 Apr 2023) EndedAt: 2023-04-12 03:23:27 -0400 (Wed, 12 Apr 2023) EllapsedTime: 23.2 seconds RetCode: 0 Status: OK PackageFile: MsBackendMgf_1.7.5.tar.gz PackageFileSize: 311.3 KiB