Package: MouseFM Version: 1.9.0 Command: /home/biocbuild/bbs-3.17-bioc/R/bin/R CMD build --keep-empty-dirs --no-resave-data MouseFM StartedAt: 2023-04-12 03:22:18 -0400 (Wed, 12 Apr 2023) EndedAt: 2023-04-12 03:23:32 -0400 (Wed, 12 Apr 2023) EllapsedTime: 74.4 seconds RetCode: 0 Status: OK PackageFile: MouseFM_1.9.0.tar.gz PackageFileSize: 747.8 KiB