Package: MoonlightR Version: 1.25.0 Command: /home/biocbuild/bbs-3.17-bioc/R/bin/R CMD build --keep-empty-dirs --no-resave-data MoonlightR StartedAt: 2023-04-12 03:21:35 -0400 (Wed, 12 Apr 2023) EndedAt: 2023-04-12 03:23:30 -0400 (Wed, 12 Apr 2023) EllapsedTime: 115.5 seconds RetCode: 0 Status: OK PackageFile: MoonlightR_1.25.0.tar.gz PackageFileSize: 14.75 MiB