Package: MobilityTransformR Version: 1.3.0 Command: /home/biocbuild/bbs-3.17-bioc/R/bin/R CMD INSTALL MobilityTransformR StartedAt: 2023-04-12 01:59:11 -0400 (Wed, 12 Apr 2023) EndedAt: 2023-04-12 01:59:56 -0400 (Wed, 12 Apr 2023) EllapsedTime: 44.7 seconds RetCode: 0 Status: OK