Package: MethReg Version: 1.9.0 Command: /home/biocbuild/bbs-3.17-bioc/R/bin/R CMD INSTALL MethReg StartedAt: 2023-04-12 02:07:18 -0400 (Wed, 12 Apr 2023) EndedAt: 2023-04-12 02:07:53 -0400 (Wed, 12 Apr 2023) EllapsedTime: 35.0 seconds RetCode: 0 Status: OK