Package: MethPed Version: 1.27.0 Command: /home/biocbuild/bbs-3.17-bioc/R/bin/R CMD build --keep-empty-dirs --no-resave-data MethPed StartedAt: 2023-04-12 03:15:57 -0400 (Wed, 12 Apr 2023) EndedAt: 2023-04-12 03:17:30 -0400 (Wed, 12 Apr 2023) EllapsedTime: 93.3 seconds RetCode: 0 Status: OK PackageFile: MethPed_1.27.0.tar.gz PackageFileSize: 9.266 MiB