Package: MLSeq Version: 2.17.0 Command: /home/biocbuild/bbs-3.17-bioc/R/bin/R CMD build --keep-empty-dirs --no-resave-data MLSeq StartedAt: 2023-04-11 17:04:39 -0400 (Tue, 11 Apr 2023) EndedAt: 2023-04-11 17:06:19 -0400 (Tue, 11 Apr 2023) EllapsedTime: 99.8 seconds RetCode: 0 Status: OK PackageFile: MLSeq_2.17.0.tar.gz PackageFileSize: 628 KiB