Package: MIMOSA Version: 1.37.1 Command: /home/biocbuild/bbs-3.17-bioc/R/bin/R CMD INSTALL MIMOSA StartedAt: 2023-04-12 01:54:30 -0400 (Wed, 12 Apr 2023) EndedAt: 2023-04-12 01:55:31 -0400 (Wed, 12 Apr 2023) EllapsedTime: 61.2 seconds RetCode: 0 Status: OK