Package: MBCB Version: 1.53.0 Command: /home/biocbuild/bbs-3.17-bioc/R/bin/R CMD INSTALL MBCB StartedAt: 2023-04-12 01:32:52 -0400 (Wed, 12 Apr 2023) EndedAt: 2023-04-12 01:33:14 -0400 (Wed, 12 Apr 2023) EllapsedTime: 22.5 seconds RetCode: 0 Status: OK