Package: Linnorm Version: 2.23.0 Command: /home/biocbuild/bbs-3.17-bioc/R/bin/R CMD build --keep-empty-dirs --no-resave-data Linnorm StartedAt: 2023-04-12 03:10:39 -0400 (Wed, 12 Apr 2023) EndedAt: 2023-04-12 03:14:31 -0400 (Wed, 12 Apr 2023) EllapsedTime: 232.1 seconds RetCode: 0 Status: OK PackageFile: Linnorm_2.23.0.tar.gz PackageFileSize: 4.074 MiB