Package: LinTInd Version: 1.3.0 Command: /home/biocbuild/bbs-3.17-bioc/R/bin/R CMD build --keep-empty-dirs --no-resave-data LinTInd StartedAt: 2023-04-12 03:10:43 -0400 (Wed, 12 Apr 2023) EndedAt: 2023-04-12 03:11:30 -0400 (Wed, 12 Apr 2023) EllapsedTime: 47.3 seconds RetCode: 0 Status: OK PackageFile: LinTInd_1.3.0.tar.gz PackageFileSize: 1.52 MiB