Package: IsoCorrectoR Version: 1.17.2 Command: /home/biocbuild/bbs-3.17-bioc/R/bin/R CMD INSTALL IsoCorrectoR StartedAt: 2023-04-12 01:35:40 -0400 (Wed, 12 Apr 2023) EndedAt: 2023-04-12 01:35:52 -0400 (Wed, 12 Apr 2023) EllapsedTime: 11.7 seconds RetCode: 0 Status: OK