Package: InterMineR Version: 1.21.0 Command: /home/biocbuild/bbs-3.17-bioc/R/bin/R CMD build --keep-empty-dirs --no-resave-data InterMineR StartedAt: 2023-04-12 03:07:44 -0400 (Wed, 12 Apr 2023) EndedAt: 2023-04-12 03:08:53 -0400 (Wed, 12 Apr 2023) EllapsedTime: 68.3 seconds RetCode: 0 Status: OK PackageFile: InterMineR_1.21.0.tar.gz PackageFileSize: 4.91 MiB