Package: IgGeneUsage Version: 1.13.1 Command: /home/biocbuild/bbs-3.17-bioc/R/bin/R CMD build --keep-empty-dirs --no-resave-data IgGeneUsage StartedAt: 2023-04-12 03:05:17 -0400 (Wed, 12 Apr 2023) EndedAt: 2023-04-12 03:10:08 -0400 (Wed, 12 Apr 2023) EllapsedTime: 291.2 seconds RetCode: 0 Status: OK PackageFile: IgGeneUsage_1.13.1.tar.gz PackageFileSize: 745.8 KiB