Package: IRanges Version: 2.33.1 Command: /home/biocbuild/bbs-3.17-bioc/R/bin/R CMD build --keep-empty-dirs --no-resave-data IRanges StartedAt: 2023-04-12 03:08:16 -0400 (Wed, 12 Apr 2023) EndedAt: 2023-04-12 03:09:38 -0400 (Wed, 12 Apr 2023) EllapsedTime: 82.3 seconds RetCode: 0 Status: OK PackageFile: IRanges_2.33.1.tar.gz PackageFileSize: 446 KiB