Package: HiCool Version: 0.99.6 Command: /home/biocbuild/bbs-3.17-bioc/R/bin/R CMD build --keep-empty-dirs --no-resave-data HiCool StartedAt: 2023-04-12 03:03:12 -0400 (Wed, 12 Apr 2023) EndedAt: 2023-04-12 03:04:39 -0400 (Wed, 12 Apr 2023) EllapsedTime: 86.4 seconds RetCode: 0 Status: OK PackageFile: HiCool_0.99.6.tar.gz PackageFileSize: 701.9 KiB