Package: HiCExperiment Version: 0.99.13 Command: /home/biocbuild/bbs-3.17-bioc/R/bin/R CMD INSTALL HiCExperiment StartedAt: 2023-04-12 01:40:59 -0400 (Wed, 12 Apr 2023) EndedAt: 2023-04-12 01:41:41 -0400 (Wed, 12 Apr 2023) EllapsedTime: 42.2 seconds RetCode: 0 Status: OK