Package: GeomxTools Version: 3.3.0 Command: /home/biocbuild/bbs-3.17-bioc/R/bin/R CMD build --keep-empty-dirs --no-resave-data GeomxTools StartedAt: 2023-04-11 16:37:35 -0400 (Tue, 11 Apr 2023) EndedAt: 2023-04-11 16:43:46 -0400 (Tue, 11 Apr 2023) EllapsedTime: 371.8 seconds RetCode: 0 Status: OK PackageFile: GeomxTools_3.3.0.tar.gz PackageFileSize: 15.93 MiB