git_url: https://git.bioconductor.org/packages/GenomicFiles git_branch: devel git_last_commit: aeb833c git_last_commit_date: 2023-03-17 15:01:20 -0400 (Fri, 17 Mar 2023) Package: GenomicFiles Version: 1.35.1 Maintainer: Bioconductor Package Maintainer MaintainerEmail: maintainer at bioconductor.org