Package: GSALightning Version: 1.27.0 Command: /home/biocbuild/bbs-3.17-bioc/R/bin/R CMD build --keep-empty-dirs --no-resave-data GSALightning StartedAt: 2023-04-12 02:58:57 -0400 (Wed, 12 Apr 2023) EndedAt: 2023-04-12 02:59:58 -0400 (Wed, 12 Apr 2023) EllapsedTime: 61.2 seconds RetCode: 0 Status: OK PackageFile: GSALightning_1.27.0.tar.gz PackageFileSize: 4.227 MiB