Package: GMRP Version: 1.27.0 Command: /home/biocbuild/bbs-3.17-bioc/R/bin/R CMD build --keep-empty-dirs --no-resave-data GMRP StartedAt: 2023-04-12 02:57:09 -0400 (Wed, 12 Apr 2023) EndedAt: 2023-04-12 02:57:26 -0400 (Wed, 12 Apr 2023) EllapsedTime: 17.1 seconds RetCode: 0 Status: OK PackageFile: GMRP_1.27.0.tar.gz PackageFileSize: 891.8 KiB